


BEGIN:VCALENDAR
VERSION:2.0
PRODID:-//Peoria PlayHouse - ECPv6.15.18//NONSGML v1.0//EN
CALSCALE:GREGORIAN
METHOD:PUBLISH
X-ORIGINAL-URL:https://peoriaplayhouse.org
X-WR-CALDESC:Events for Peoria PlayHouse
REFRESH-INTERVAL;VALUE=DURATION:PT1H
X-Robots-Tag:noindex
X-PUBLISHED-TTL:PT1H
BEGIN:VTIMEZONE
TZID:America/Chicago
BEGIN:DAYLIGHT
TZOFFSETFROM:-0600
TZOFFSETTO:-0500
TZNAME:CDT
DTSTART:20250309T080000
END:DAYLIGHT
BEGIN:STANDARD
TZOFFSETFROM:-0500
TZOFFSETTO:-0600
TZNAME:CST
DTSTART:20251102T070000
END:STANDARD
BEGIN:DAYLIGHT
TZOFFSETFROM:-0600
TZOFFSETTO:-0500
TZNAME:CDT
DTSTART:20260308T080000
END:DAYLIGHT
BEGIN:STANDARD
TZOFFSETFROM:-0500
TZOFFSETTO:-0600
TZNAME:CST
DTSTART:20261101T070000
END:STANDARD
BEGIN:DAYLIGHT
TZOFFSETFROM:-0600
TZOFFSETTO:-0500
TZNAME:CDT
DTSTART:20270314T080000
END:DAYLIGHT
BEGIN:STANDARD
TZOFFSETFROM:-0500
TZOFFSETTO:-0600
TZNAME:CST
DTSTART:20271107T070000
END:STANDARD
END:VTIMEZONE
BEGIN:VEVENT
DTSTART;TZID=America/Chicago:20260428T173000
DTEND;TZID=America/Chicago:20260428T183000
DTSTAMP:20260421T113012
CREATED:20251105T220002Z
LAST-MODIFIED:20251110T172702Z
UID:10001599-1777397400-1777401000@peoriaplayhouse.org
SUMMARY:Family Math
DESCRIPTION:Come play with numbers! Family Math is a new program that invites families with children ages 5-8 to explore math through creativity\, imagination\, and hands-on fun. Each session is full of open-ended activities designed to help children see math as something playful\, expressive\, and part of every day life–from patterns in nature to shapes we build to rhythms we move to. \nFamilies will work together\, sharing ideas\, experimenting\, and discovering new ways to look at the world. It’s all about building confidence\, fostering curiosity\, and enjoying the process–not just getting the “right answer.” \nOne registration covers your whole family. Limited to 12 families \nSession Dates: January 27\, February 24\, March 14\, April 28\, May 26 \nRegister here.
URL:https://peoriaplayhouse.org/event/family-math/2026-04-28/
LOCATION:Peoria PlayHouse Children’s Museum\, Peoria\, IL\, United States
CATEGORIES:Fun For All Ages,Fun For Younger Kids
ATTACH;FMTTYPE=image/jpeg:https://peoriaplayhouse.org/wp-content/uploads/PH-MathForwardInitiative-FamilyMath-Web.jpg
GEO:40.712882;-89.576722
END:VEVENT
BEGIN:VEVENT
DTSTART;TZID=America/Chicago:20260526T173000
DTEND;TZID=America/Chicago:20260526T183000
DTSTAMP:20260421T113012
CREATED:20251105T220002Z
LAST-MODIFIED:20251110T172702Z
UID:10001600-1779816600-1779820200@peoriaplayhouse.org
SUMMARY:Family Math
DESCRIPTION:Come play with numbers! Family Math is a new program that invites families with children ages 5-8 to explore math through creativity\, imagination\, and hands-on fun. Each session is full of open-ended activities designed to help children see math as something playful\, expressive\, and part of every day life–from patterns in nature to shapes we build to rhythms we move to. \nFamilies will work together\, sharing ideas\, experimenting\, and discovering new ways to look at the world. It’s all about building confidence\, fostering curiosity\, and enjoying the process–not just getting the “right answer.” \nOne registration covers your whole family. Limited to 12 families \nSession Dates: January 27\, February 24\, March 14\, April 28\, May 26 \nRegister here.
URL:https://peoriaplayhouse.org/event/family-math/2026-05-26/
LOCATION:Peoria PlayHouse Children’s Museum\, Peoria\, IL\, United States
CATEGORIES:Fun For All Ages,Fun For Younger Kids
ATTACH;FMTTYPE=image/jpeg:https://peoriaplayhouse.org/wp-content/uploads/PH-MathForwardInitiative-FamilyMath-Web.jpg
GEO:40.712882;-89.576722
END:VEVENT
END:VCALENDAR