


BEGIN:VCALENDAR
VERSION:2.0
PRODID:-//Peoria PlayHouse - ECPv6.15.18//NONSGML v1.0//EN
CALSCALE:GREGORIAN
METHOD:PUBLISH
X-WR-CALNAME:Peoria PlayHouse
X-ORIGINAL-URL:https://peoriaplayhouse.org
X-WR-CALDESC:Events for Peoria PlayHouse
REFRESH-INTERVAL;VALUE=DURATION:PT1H
X-Robots-Tag:noindex
X-PUBLISHED-TTL:PT1H
BEGIN:VTIMEZONE
TZID:America/Chicago
BEGIN:DAYLIGHT
TZOFFSETFROM:-0600
TZOFFSETTO:-0500
TZNAME:CDT
DTSTART:20250309T080000
END:DAYLIGHT
BEGIN:STANDARD
TZOFFSETFROM:-0500
TZOFFSETTO:-0600
TZNAME:CST
DTSTART:20251102T070000
END:STANDARD
BEGIN:DAYLIGHT
TZOFFSETFROM:-0600
TZOFFSETTO:-0500
TZNAME:CDT
DTSTART:20260308T080000
END:DAYLIGHT
BEGIN:STANDARD
TZOFFSETFROM:-0500
TZOFFSETTO:-0600
TZNAME:CST
DTSTART:20261101T070000
END:STANDARD
BEGIN:DAYLIGHT
TZOFFSETFROM:-0600
TZOFFSETTO:-0500
TZNAME:CDT
DTSTART:20270314T080000
END:DAYLIGHT
BEGIN:STANDARD
TZOFFSETFROM:-0500
TZOFFSETTO:-0600
TZNAME:CST
DTSTART:20271107T070000
END:STANDARD
END:VTIMEZONE
BEGIN:VEVENT
DTSTART;VALUE=DATE:20260529
DTEND;VALUE=DATE:20260530
DTSTAMP:20260422T063759
CREATED:20260415T192110Z
LAST-MODIFIED:20260415T192110Z
UID:10002055-1780012800-1780099199@peoriaplayhouse.org
SUMMARY:FriYay at Glen Oak Park
DESCRIPTION:This summer\, don’t just end the week — Make it a FriYay! Join us at Glen Oak Park for extended Friday fun at Peoria Zoo and Peoria PlayHouse Children’s Museum. More time to explore. More time to play. More time together. \nEvery Friday from Memorial Day to Labor Day (5/29-9/4)\, stick around a little longer and enjoy extra evening hours at two of your favorite destinations:\nPeoria PlayHouse: Open until 6pm\nPeoria Zoo: Open until 8pm (last entry at 7:30) \nOn select Fridays\, June 26\, July 31\, and August 14\, the fun ramps up even more with the Peoria Park District’s Rec ‘n Roll inside the Zoo. Jump into field games\, try out STEM activities\, and get creative with a hands-on maker project led by the Peoria PlayHouse team. \nKeep an eye out for other special family-friendly activities and surprise pop-up fun throughout the summer. No two FriYays are exactly the same! \nAll ages welcome. Free with admission/membership.
URL:https://peoriaplayhouse.org/event/friyay-at-glen-oak-park/2026-05-29/
LOCATION:Glen Oak Park\, 2218 N. Prospect Road\, Peoria\, IL\, 61603\, United States
ATTACH;FMTTYPE=image/jpeg:https://peoriaplayhouse.org/wp-content/uploads/GOP-FriYay-Square-BothLogos.jpg
END:VEVENT
BEGIN:VEVENT
DTSTART;VALUE=DATE:20260605
DTEND;VALUE=DATE:20260606
DTSTAMP:20260422T063759
CREATED:20260415T192110Z
LAST-MODIFIED:20260415T192110Z
UID:10002056-1780617600-1780703999@peoriaplayhouse.org
SUMMARY:FriYay at Glen Oak Park
DESCRIPTION:This summer\, don’t just end the week — Make it a FriYay! Join us at Glen Oak Park for extended Friday fun at Peoria Zoo and Peoria PlayHouse Children’s Museum. More time to explore. More time to play. More time together. \nEvery Friday from Memorial Day to Labor Day (5/29-9/4)\, stick around a little longer and enjoy extra evening hours at two of your favorite destinations:\nPeoria PlayHouse: Open until 6pm\nPeoria Zoo: Open until 8pm (last entry at 7:30) \nOn select Fridays\, June 26\, July 31\, and August 14\, the fun ramps up even more with the Peoria Park District’s Rec ‘n Roll inside the Zoo. Jump into field games\, try out STEM activities\, and get creative with a hands-on maker project led by the Peoria PlayHouse team. \nKeep an eye out for other special family-friendly activities and surprise pop-up fun throughout the summer. No two FriYays are exactly the same! \nAll ages welcome. Free with admission/membership.
URL:https://peoriaplayhouse.org/event/friyay-at-glen-oak-park/2026-06-05/
LOCATION:Glen Oak Park\, 2218 N. Prospect Road\, Peoria\, IL\, 61603\, United States
ATTACH;FMTTYPE=image/jpeg:https://peoriaplayhouse.org/wp-content/uploads/GOP-FriYay-Square-BothLogos.jpg
END:VEVENT
BEGIN:VEVENT
DTSTART;VALUE=DATE:20260612
DTEND;VALUE=DATE:20260613
DTSTAMP:20260422T063759
CREATED:20260415T192110Z
LAST-MODIFIED:20260415T192110Z
UID:10002057-1781222400-1781308799@peoriaplayhouse.org
SUMMARY:FriYay at Glen Oak Park
DESCRIPTION:This summer\, don’t just end the week — Make it a FriYay! Join us at Glen Oak Park for extended Friday fun at Peoria Zoo and Peoria PlayHouse Children’s Museum. More time to explore. More time to play. More time together. \nEvery Friday from Memorial Day to Labor Day (5/29-9/4)\, stick around a little longer and enjoy extra evening hours at two of your favorite destinations:\nPeoria PlayHouse: Open until 6pm\nPeoria Zoo: Open until 8pm (last entry at 7:30) \nOn select Fridays\, June 26\, July 31\, and August 14\, the fun ramps up even more with the Peoria Park District’s Rec ‘n Roll inside the Zoo. Jump into field games\, try out STEM activities\, and get creative with a hands-on maker project led by the Peoria PlayHouse team. \nKeep an eye out for other special family-friendly activities and surprise pop-up fun throughout the summer. No two FriYays are exactly the same! \nAll ages welcome. Free with admission/membership.
URL:https://peoriaplayhouse.org/event/friyay-at-glen-oak-park/2026-06-12/
LOCATION:Glen Oak Park\, 2218 N. Prospect Road\, Peoria\, IL\, 61603\, United States
ATTACH;FMTTYPE=image/jpeg:https://peoriaplayhouse.org/wp-content/uploads/GOP-FriYay-Square-BothLogos.jpg
END:VEVENT
BEGIN:VEVENT
DTSTART;VALUE=DATE:20260619
DTEND;VALUE=DATE:20260620
DTSTAMP:20260422T063759
CREATED:20260415T192110Z
LAST-MODIFIED:20260415T192110Z
UID:10002058-1781827200-1781913599@peoriaplayhouse.org
SUMMARY:FriYay at Glen Oak Park
DESCRIPTION:This summer\, don’t just end the week — Make it a FriYay! Join us at Glen Oak Park for extended Friday fun at Peoria Zoo and Peoria PlayHouse Children’s Museum. More time to explore. More time to play. More time together. \nEvery Friday from Memorial Day to Labor Day (5/29-9/4)\, stick around a little longer and enjoy extra evening hours at two of your favorite destinations:\nPeoria PlayHouse: Open until 6pm\nPeoria Zoo: Open until 8pm (last entry at 7:30) \nOn select Fridays\, June 26\, July 31\, and August 14\, the fun ramps up even more with the Peoria Park District’s Rec ‘n Roll inside the Zoo. Jump into field games\, try out STEM activities\, and get creative with a hands-on maker project led by the Peoria PlayHouse team. \nKeep an eye out for other special family-friendly activities and surprise pop-up fun throughout the summer. No two FriYays are exactly the same! \nAll ages welcome. Free with admission/membership.
URL:https://peoriaplayhouse.org/event/friyay-at-glen-oak-park/2026-06-19/
LOCATION:Glen Oak Park\, 2218 N. Prospect Road\, Peoria\, IL\, 61603\, United States
ATTACH;FMTTYPE=image/jpeg:https://peoriaplayhouse.org/wp-content/uploads/GOP-FriYay-Square-BothLogos.jpg
END:VEVENT
BEGIN:VEVENT
DTSTART;VALUE=DATE:20260626
DTEND;VALUE=DATE:20260627
DTSTAMP:20260422T063759
CREATED:20260415T192110Z
LAST-MODIFIED:20260415T192110Z
UID:10002059-1782432000-1782518399@peoriaplayhouse.org
SUMMARY:FriYay at Glen Oak Park
DESCRIPTION:This summer\, don’t just end the week — Make it a FriYay! Join us at Glen Oak Park for extended Friday fun at Peoria Zoo and Peoria PlayHouse Children’s Museum. More time to explore. More time to play. More time together. \nEvery Friday from Memorial Day to Labor Day (5/29-9/4)\, stick around a little longer and enjoy extra evening hours at two of your favorite destinations:\nPeoria PlayHouse: Open until 6pm\nPeoria Zoo: Open until 8pm (last entry at 7:30) \nOn select Fridays\, June 26\, July 31\, and August 14\, the fun ramps up even more with the Peoria Park District’s Rec ‘n Roll inside the Zoo. Jump into field games\, try out STEM activities\, and get creative with a hands-on maker project led by the Peoria PlayHouse team. \nKeep an eye out for other special family-friendly activities and surprise pop-up fun throughout the summer. No two FriYays are exactly the same! \nAll ages welcome. Free with admission/membership.
URL:https://peoriaplayhouse.org/event/friyay-at-glen-oak-park/2026-06-26/
LOCATION:Glen Oak Park\, 2218 N. Prospect Road\, Peoria\, IL\, 61603\, United States
ATTACH;FMTTYPE=image/jpeg:https://peoriaplayhouse.org/wp-content/uploads/GOP-FriYay-Square-BothLogos.jpg
END:VEVENT
BEGIN:VEVENT
DTSTART;VALUE=DATE:20260703
DTEND;VALUE=DATE:20260704
DTSTAMP:20260422T063759
CREATED:20260415T192110Z
LAST-MODIFIED:20260415T192110Z
UID:10002060-1783036800-1783123199@peoriaplayhouse.org
SUMMARY:FriYay at Glen Oak Park
DESCRIPTION:This summer\, don’t just end the week — Make it a FriYay! Join us at Glen Oak Park for extended Friday fun at Peoria Zoo and Peoria PlayHouse Children’s Museum. More time to explore. More time to play. More time together. \nEvery Friday from Memorial Day to Labor Day (5/29-9/4)\, stick around a little longer and enjoy extra evening hours at two of your favorite destinations:\nPeoria PlayHouse: Open until 6pm\nPeoria Zoo: Open until 8pm (last entry at 7:30) \nOn select Fridays\, June 26\, July 31\, and August 14\, the fun ramps up even more with the Peoria Park District’s Rec ‘n Roll inside the Zoo. Jump into field games\, try out STEM activities\, and get creative with a hands-on maker project led by the Peoria PlayHouse team. \nKeep an eye out for other special family-friendly activities and surprise pop-up fun throughout the summer. No two FriYays are exactly the same! \nAll ages welcome. Free with admission/membership.
URL:https://peoriaplayhouse.org/event/friyay-at-glen-oak-park/2026-07-03/
LOCATION:Glen Oak Park\, 2218 N. Prospect Road\, Peoria\, IL\, 61603\, United States
ATTACH;FMTTYPE=image/jpeg:https://peoriaplayhouse.org/wp-content/uploads/GOP-FriYay-Square-BothLogos.jpg
END:VEVENT
BEGIN:VEVENT
DTSTART;VALUE=DATE:20260710
DTEND;VALUE=DATE:20260711
DTSTAMP:20260422T063759
CREATED:20260415T192110Z
LAST-MODIFIED:20260415T192110Z
UID:10002061-1783641600-1783727999@peoriaplayhouse.org
SUMMARY:FriYay at Glen Oak Park
DESCRIPTION:This summer\, don’t just end the week — Make it a FriYay! Join us at Glen Oak Park for extended Friday fun at Peoria Zoo and Peoria PlayHouse Children’s Museum. More time to explore. More time to play. More time together. \nEvery Friday from Memorial Day to Labor Day (5/29-9/4)\, stick around a little longer and enjoy extra evening hours at two of your favorite destinations:\nPeoria PlayHouse: Open until 6pm\nPeoria Zoo: Open until 8pm (last entry at 7:30) \nOn select Fridays\, June 26\, July 31\, and August 14\, the fun ramps up even more with the Peoria Park District’s Rec ‘n Roll inside the Zoo. Jump into field games\, try out STEM activities\, and get creative with a hands-on maker project led by the Peoria PlayHouse team. \nKeep an eye out for other special family-friendly activities and surprise pop-up fun throughout the summer. No two FriYays are exactly the same! \nAll ages welcome. Free with admission/membership.
URL:https://peoriaplayhouse.org/event/friyay-at-glen-oak-park/2026-07-10/
LOCATION:Glen Oak Park\, 2218 N. Prospect Road\, Peoria\, IL\, 61603\, United States
ATTACH;FMTTYPE=image/jpeg:https://peoriaplayhouse.org/wp-content/uploads/GOP-FriYay-Square-BothLogos.jpg
END:VEVENT
BEGIN:VEVENT
DTSTART;VALUE=DATE:20260717
DTEND;VALUE=DATE:20260718
DTSTAMP:20260422T063759
CREATED:20260415T192110Z
LAST-MODIFIED:20260415T192110Z
UID:10002062-1784246400-1784332799@peoriaplayhouse.org
SUMMARY:FriYay at Glen Oak Park
DESCRIPTION:This summer\, don’t just end the week — Make it a FriYay! Join us at Glen Oak Park for extended Friday fun at Peoria Zoo and Peoria PlayHouse Children’s Museum. More time to explore. More time to play. More time together. \nEvery Friday from Memorial Day to Labor Day (5/29-9/4)\, stick around a little longer and enjoy extra evening hours at two of your favorite destinations:\nPeoria PlayHouse: Open until 6pm\nPeoria Zoo: Open until 8pm (last entry at 7:30) \nOn select Fridays\, June 26\, July 31\, and August 14\, the fun ramps up even more with the Peoria Park District’s Rec ‘n Roll inside the Zoo. Jump into field games\, try out STEM activities\, and get creative with a hands-on maker project led by the Peoria PlayHouse team. \nKeep an eye out for other special family-friendly activities and surprise pop-up fun throughout the summer. No two FriYays are exactly the same! \nAll ages welcome. Free with admission/membership.
URL:https://peoriaplayhouse.org/event/friyay-at-glen-oak-park/2026-07-17/
LOCATION:Glen Oak Park\, 2218 N. Prospect Road\, Peoria\, IL\, 61603\, United States
ATTACH;FMTTYPE=image/jpeg:https://peoriaplayhouse.org/wp-content/uploads/GOP-FriYay-Square-BothLogos.jpg
END:VEVENT
BEGIN:VEVENT
DTSTART;VALUE=DATE:20260724
DTEND;VALUE=DATE:20260725
DTSTAMP:20260422T063759
CREATED:20260415T192110Z
LAST-MODIFIED:20260415T192110Z
UID:10002063-1784851200-1784937599@peoriaplayhouse.org
SUMMARY:FriYay at Glen Oak Park
DESCRIPTION:This summer\, don’t just end the week — Make it a FriYay! Join us at Glen Oak Park for extended Friday fun at Peoria Zoo and Peoria PlayHouse Children’s Museum. More time to explore. More time to play. More time together. \nEvery Friday from Memorial Day to Labor Day (5/29-9/4)\, stick around a little longer and enjoy extra evening hours at two of your favorite destinations:\nPeoria PlayHouse: Open until 6pm\nPeoria Zoo: Open until 8pm (last entry at 7:30) \nOn select Fridays\, June 26\, July 31\, and August 14\, the fun ramps up even more with the Peoria Park District’s Rec ‘n Roll inside the Zoo. Jump into field games\, try out STEM activities\, and get creative with a hands-on maker project led by the Peoria PlayHouse team. \nKeep an eye out for other special family-friendly activities and surprise pop-up fun throughout the summer. No two FriYays are exactly the same! \nAll ages welcome. Free with admission/membership.
URL:https://peoriaplayhouse.org/event/friyay-at-glen-oak-park/2026-07-24/
LOCATION:Glen Oak Park\, 2218 N. Prospect Road\, Peoria\, IL\, 61603\, United States
ATTACH;FMTTYPE=image/jpeg:https://peoriaplayhouse.org/wp-content/uploads/GOP-FriYay-Square-BothLogos.jpg
END:VEVENT
BEGIN:VEVENT
DTSTART;VALUE=DATE:20260731
DTEND;VALUE=DATE:20260801
DTSTAMP:20260422T063759
CREATED:20260415T192110Z
LAST-MODIFIED:20260415T192110Z
UID:10002064-1785456000-1785542399@peoriaplayhouse.org
SUMMARY:FriYay at Glen Oak Park
DESCRIPTION:This summer\, don’t just end the week — Make it a FriYay! Join us at Glen Oak Park for extended Friday fun at Peoria Zoo and Peoria PlayHouse Children’s Museum. More time to explore. More time to play. More time together. \nEvery Friday from Memorial Day to Labor Day (5/29-9/4)\, stick around a little longer and enjoy extra evening hours at two of your favorite destinations:\nPeoria PlayHouse: Open until 6pm\nPeoria Zoo: Open until 8pm (last entry at 7:30) \nOn select Fridays\, June 26\, July 31\, and August 14\, the fun ramps up even more with the Peoria Park District’s Rec ‘n Roll inside the Zoo. Jump into field games\, try out STEM activities\, and get creative with a hands-on maker project led by the Peoria PlayHouse team. \nKeep an eye out for other special family-friendly activities and surprise pop-up fun throughout the summer. No two FriYays are exactly the same! \nAll ages welcome. Free with admission/membership.
URL:https://peoriaplayhouse.org/event/friyay-at-glen-oak-park/2026-07-31/
LOCATION:Glen Oak Park\, 2218 N. Prospect Road\, Peoria\, IL\, 61603\, United States
ATTACH;FMTTYPE=image/jpeg:https://peoriaplayhouse.org/wp-content/uploads/GOP-FriYay-Square-BothLogos.jpg
END:VEVENT
BEGIN:VEVENT
DTSTART;VALUE=DATE:20260807
DTEND;VALUE=DATE:20260808
DTSTAMP:20260422T063759
CREATED:20260415T192110Z
LAST-MODIFIED:20260415T192110Z
UID:10002065-1786060800-1786147199@peoriaplayhouse.org
SUMMARY:FriYay at Glen Oak Park
DESCRIPTION:This summer\, don’t just end the week — Make it a FriYay! Join us at Glen Oak Park for extended Friday fun at Peoria Zoo and Peoria PlayHouse Children’s Museum. More time to explore. More time to play. More time together. \nEvery Friday from Memorial Day to Labor Day (5/29-9/4)\, stick around a little longer and enjoy extra evening hours at two of your favorite destinations:\nPeoria PlayHouse: Open until 6pm\nPeoria Zoo: Open until 8pm (last entry at 7:30) \nOn select Fridays\, June 26\, July 31\, and August 14\, the fun ramps up even more with the Peoria Park District’s Rec ‘n Roll inside the Zoo. Jump into field games\, try out STEM activities\, and get creative with a hands-on maker project led by the Peoria PlayHouse team. \nKeep an eye out for other special family-friendly activities and surprise pop-up fun throughout the summer. No two FriYays are exactly the same! \nAll ages welcome. Free with admission/membership.
URL:https://peoriaplayhouse.org/event/friyay-at-glen-oak-park/2026-08-07/
LOCATION:Glen Oak Park\, 2218 N. Prospect Road\, Peoria\, IL\, 61603\, United States
ATTACH;FMTTYPE=image/jpeg:https://peoriaplayhouse.org/wp-content/uploads/GOP-FriYay-Square-BothLogos.jpg
END:VEVENT
BEGIN:VEVENT
DTSTART;VALUE=DATE:20260814
DTEND;VALUE=DATE:20260815
DTSTAMP:20260422T063759
CREATED:20260415T192110Z
LAST-MODIFIED:20260415T192110Z
UID:10002066-1786665600-1786751999@peoriaplayhouse.org
SUMMARY:FriYay at Glen Oak Park
DESCRIPTION:This summer\, don’t just end the week — Make it a FriYay! Join us at Glen Oak Park for extended Friday fun at Peoria Zoo and Peoria PlayHouse Children’s Museum. More time to explore. More time to play. More time together. \nEvery Friday from Memorial Day to Labor Day (5/29-9/4)\, stick around a little longer and enjoy extra evening hours at two of your favorite destinations:\nPeoria PlayHouse: Open until 6pm\nPeoria Zoo: Open until 8pm (last entry at 7:30) \nOn select Fridays\, June 26\, July 31\, and August 14\, the fun ramps up even more with the Peoria Park District’s Rec ‘n Roll inside the Zoo. Jump into field games\, try out STEM activities\, and get creative with a hands-on maker project led by the Peoria PlayHouse team. \nKeep an eye out for other special family-friendly activities and surprise pop-up fun throughout the summer. No two FriYays are exactly the same! \nAll ages welcome. Free with admission/membership.
URL:https://peoriaplayhouse.org/event/friyay-at-glen-oak-park/2026-08-14/
LOCATION:Glen Oak Park\, 2218 N. Prospect Road\, Peoria\, IL\, 61603\, United States
ATTACH;FMTTYPE=image/jpeg:https://peoriaplayhouse.org/wp-content/uploads/GOP-FriYay-Square-BothLogos.jpg
END:VEVENT
BEGIN:VEVENT
DTSTART;VALUE=DATE:20260821
DTEND;VALUE=DATE:20260822
DTSTAMP:20260422T063759
CREATED:20260415T192110Z
LAST-MODIFIED:20260415T192110Z
UID:10002067-1787270400-1787356799@peoriaplayhouse.org
SUMMARY:FriYay at Glen Oak Park
DESCRIPTION:This summer\, don’t just end the week — Make it a FriYay! Join us at Glen Oak Park for extended Friday fun at Peoria Zoo and Peoria PlayHouse Children’s Museum. More time to explore. More time to play. More time together. \nEvery Friday from Memorial Day to Labor Day (5/29-9/4)\, stick around a little longer and enjoy extra evening hours at two of your favorite destinations:\nPeoria PlayHouse: Open until 6pm\nPeoria Zoo: Open until 8pm (last entry at 7:30) \nOn select Fridays\, June 26\, July 31\, and August 14\, the fun ramps up even more with the Peoria Park District’s Rec ‘n Roll inside the Zoo. Jump into field games\, try out STEM activities\, and get creative with a hands-on maker project led by the Peoria PlayHouse team. \nKeep an eye out for other special family-friendly activities and surprise pop-up fun throughout the summer. No two FriYays are exactly the same! \nAll ages welcome. Free with admission/membership.
URL:https://peoriaplayhouse.org/event/friyay-at-glen-oak-park/2026-08-21/
LOCATION:Glen Oak Park\, 2218 N. Prospect Road\, Peoria\, IL\, 61603\, United States
ATTACH;FMTTYPE=image/jpeg:https://peoriaplayhouse.org/wp-content/uploads/GOP-FriYay-Square-BothLogos.jpg
END:VEVENT
BEGIN:VEVENT
DTSTART;VALUE=DATE:20260828
DTEND;VALUE=DATE:20260829
DTSTAMP:20260422T063759
CREATED:20260415T192110Z
LAST-MODIFIED:20260415T192110Z
UID:10002068-1787875200-1787961599@peoriaplayhouse.org
SUMMARY:FriYay at Glen Oak Park
DESCRIPTION:This summer\, don’t just end the week — Make it a FriYay! Join us at Glen Oak Park for extended Friday fun at Peoria Zoo and Peoria PlayHouse Children’s Museum. More time to explore. More time to play. More time together. \nEvery Friday from Memorial Day to Labor Day (5/29-9/4)\, stick around a little longer and enjoy extra evening hours at two of your favorite destinations:\nPeoria PlayHouse: Open until 6pm\nPeoria Zoo: Open until 8pm (last entry at 7:30) \nOn select Fridays\, June 26\, July 31\, and August 14\, the fun ramps up even more with the Peoria Park District’s Rec ‘n Roll inside the Zoo. Jump into field games\, try out STEM activities\, and get creative with a hands-on maker project led by the Peoria PlayHouse team. \nKeep an eye out for other special family-friendly activities and surprise pop-up fun throughout the summer. No two FriYays are exactly the same! \nAll ages welcome. Free with admission/membership.
URL:https://peoriaplayhouse.org/event/friyay-at-glen-oak-park/2026-08-28/
LOCATION:Glen Oak Park\, 2218 N. Prospect Road\, Peoria\, IL\, 61603\, United States
ATTACH;FMTTYPE=image/jpeg:https://peoriaplayhouse.org/wp-content/uploads/GOP-FriYay-Square-BothLogos.jpg
END:VEVENT
BEGIN:VEVENT
DTSTART;VALUE=DATE:20260904
DTEND;VALUE=DATE:20260905
DTSTAMP:20260422T063759
CREATED:20260415T192110Z
LAST-MODIFIED:20260415T192110Z
UID:10002069-1788480000-1788566399@peoriaplayhouse.org
SUMMARY:FriYay at Glen Oak Park
DESCRIPTION:This summer\, don’t just end the week — Make it a FriYay! Join us at Glen Oak Park for extended Friday fun at Peoria Zoo and Peoria PlayHouse Children’s Museum. More time to explore. More time to play. More time together. \nEvery Friday from Memorial Day to Labor Day (5/29-9/4)\, stick around a little longer and enjoy extra evening hours at two of your favorite destinations:\nPeoria PlayHouse: Open until 6pm\nPeoria Zoo: Open until 8pm (last entry at 7:30) \nOn select Fridays\, June 26\, July 31\, and August 14\, the fun ramps up even more with the Peoria Park District’s Rec ‘n Roll inside the Zoo. Jump into field games\, try out STEM activities\, and get creative with a hands-on maker project led by the Peoria PlayHouse team. \nKeep an eye out for other special family-friendly activities and surprise pop-up fun throughout the summer. No two FriYays are exactly the same! \nAll ages welcome. Free with admission/membership.
URL:https://peoriaplayhouse.org/event/friyay-at-glen-oak-park/2026-09-04/
LOCATION:Glen Oak Park\, 2218 N. Prospect Road\, Peoria\, IL\, 61603\, United States
ATTACH;FMTTYPE=image/jpeg:https://peoriaplayhouse.org/wp-content/uploads/GOP-FriYay-Square-BothLogos.jpg
END:VEVENT
END:VCALENDAR